BEGIN:VCALENDAR
VERSION:2.0
PRODID:-//ZContent.net//ZapCalLib 1.0//EN
CALSCALE:GREGORIAN
METHOD:PUBLISH
BEGIN:VEVENT
SUMMARY:Einstieg in eine umsetzungsfähige Wärmeplanung - Chancen  für kl
 eine Kommunen | Online-Grundkurs
DTSTART:20260318T170000
DTEND:20260318T183000
UID:2026-04-19-19-47-14-0-@calendar.boell.de
DTSTAMP:20260419T174714
DESCRIPTION:▶ Online-Veranstaltung – Heinrich-Böll-Stiftung - Bundesst
 iftung Berlin
END:VEVENT
END:VCALENDAR
