BEGIN:VCALENDAR
VERSION:2.0
PRODID:-//ZContent.net//ZapCalLib 1.0//EN
CALSCALE:GREGORIAN
METHOD:PUBLISH
BEGIN:VEVENT
SUMMARY:1×1 der Intersektionalität
DTSTART:20260423T100000
DTEND:20260423T170000
UID:2026-04-24-02-48-51-0-@calendar.boell.de
DTSTAMP:20260424T004851
DESCRIPTION:▶ Online-Veranstaltung – Heinrich Böll Stiftung Baden-Wür
 ttemberg
END:VEVENT
END:VCALENDAR
