BEGIN:VCALENDAR
VERSION:2.0
PRODID:-//ZContent.net//ZapCalLib 1.0//EN
CALSCALE:GREGORIAN
METHOD:PUBLISH
BEGIN:VEVENT
SUMMARY:Frauen*, ans Mikrofon! Sicher sprechen und selbstbewusst auftreten 
 | Zweiteiliger Workshop
DTSTART:20260421T160000
DTEND:20260422T190000
UID:2026-04-22-22-13-43-0-@calendar.boell.de
DTSTAMP:20260422T201343
DESCRIPTION:▶ Online-Veranstaltung – Heinrich Böll Stiftung Baden-Wür
 ttemberg
END:VEVENT
END:VCALENDAR
