BEGIN:VCALENDAR
VERSION:2.0
PRODID:-//ZContent.net//ZapCalLib 1.0//EN
CALSCALE:GREGORIAN
METHOD:PUBLISH
BEGIN:VEVENT
SUMMARY:Instagram als Visitenkarte: Profile strategisch optimieren
DTSTART:20260413T170000
DTEND:20260413T200000
UID:2026-04-23-13-22-03-0-@calendar.boell.de
DTSTAMP:20260423T112203
DESCRIPTION:▶ Online-Veranstaltung – Heinrich Böll Stiftung Baden-Wür
 ttemberg
END:VEVENT
END:VCALENDAR
