BEGIN:VCALENDAR
VERSION:2.0
PRODID:-//ZContent.net//ZapCalLib 1.0//EN
CALSCALE:GREGORIAN
METHOD:PUBLISH
BEGIN:VEVENT
SUMMARY:Wie gelingt die Plastikwende? | Runder Tisch für NGOs
DTSTART:20260210T100000
DTEND:20260210T170000
UID:2026-04-23-20-42-44-0-@calendar.boell.de
DTSTAMP:20260423T184244
DESCRIPTION:Heinrich-Böll-Stiftung - Bundesstiftung Berlin – Berlin – 
 Externe Veranstaltung
END:VEVENT
END:VCALENDAR
