BEGIN:VCALENDAR
VERSION:2.0
PRODID:-//ZContent.net//ZapCalLib 1.0//EN
CALSCALE:GREGORIAN
METHOD:PUBLISH
BEGIN:VEVENT
SUMMARY:Finissage "Hoffnung auf das Leben“  | mit Hafiza Qasimi 
DTSTART:20260427T190000
DTEND:20260427T203000
UID:2026-04-24-00-35-31-0-@calendar.boell.de
DTSTAMP:20260423T223531
DESCRIPTION:▶ Siehe Veranstaltungsbeschreibung – Stralsund – Landesst
 iftung Mecklenburg-Vorpommern
END:VEVENT
END:VCALENDAR
