BEGIN:VCALENDAR
VERSION:2.0
PRODID:-//ZContent.net//ZapCalLib 1.0//EN
CALSCALE:GREGORIAN
METHOD:PUBLISH
BEGIN:VEVENT
SUMMARY:AUGEN AUF-KINOTAG 2026: Publikumspremiere â€žDas geheime Stockwerkâ
 €œ  | BÃ¶ll-Montagskino am Dienstag
DTSTART:20260127T180000
DTEND:20260127T203000
UID:2026-04-22-22-13-07-0-@calendar.boell.de
DTSTAMP:20260422T201307
DESCRIPTION:â–¶ Siehe Veranstaltungsbeschreibung â€“ Rostock â€“ Landesstif
 tung Mecklenburg-Vorpommern
END:VEVENT
END:VCALENDAR
