BEGIN:VCALENDAR
VERSION:2.0
PRODID:-//ZContent.net//ZapCalLib 1.0//EN
CALSCALE:GREGORIAN
METHOD:PUBLISH
BEGIN:VEVENT
SUMMARY:Ohne Vielfalt keine Zukunft | Biodiversität als Schlüssel für Na
 tur- und Klimaschutz in Hamburg
DTSTART:20260914T090000
DTEND:20260918T163000
UID:2026-04-24-01-03-42-0-@calendar.boell.de
DTSTAMP:20260423T230342
DESCRIPTION:▶ Siehe Veranstaltungsbeschreibung – Hamburg – Landesstif
 tung Hamburg
END:VEVENT
END:VCALENDAR
