BEGIN:VCALENDAR
VERSION:2.0
PRODID:-//ZContent.net//ZapCalLib 1.0//EN
CALSCALE:GREGORIAN
METHOD:PUBLISH
BEGIN:VEVENT
SUMMARY:Leben in struktureller Gewalt – was macht das mit mir/uns?  | Ant
 i-Bias - ein politischer und machtkritischer Ansatz (3 Wochenenden)
DTSTART:20260417T100000
DTEND:20260627T170000
UID:2026-04-23-20-24-58-0-@calendar.boell.de
DTSTAMP:20260423T182458
DESCRIPTION:▶ Siehe Veranstaltungsbeschreibung – Berlin – Landesstift
 ung Berlin (Bildungswerk)
END:VEVENT
END:VCALENDAR
