BEGIN:VCALENDAR
VERSION:2.0
PRODID:-//ZContent.net//ZapCalLib 1.0//EN
CALSCALE:GREGORIAN
METHOD:PUBLISH
BEGIN:VEVENT
SUMMARY:regionales Netzwerktreffen Nord | Treffen von aktuellen und ehemali
 gen Böll-stipendiat*innen
DTSTART:20260518T193000
DTEND:20260518T213000
UID:2026-04-21-20-00-50-0-@calendar.boell.de
DTSTAMP:20260421T180050
DESCRIPTION:▶ Online-Veranstaltung – Stiftung Leben & Umwelt / Heinrich
 -Böll-Stiftung Niedersachsen
END:VEVENT
END:VCALENDAR
