BEGIN:VCALENDAR
VERSION:2.0
PRODID:-//ZContent.net//ZapCalLib 1.0//EN
CALSCALE:GREGORIAN
METHOD:PUBLISH
BEGIN:VEVENT
SUMMARY:Alles im Fluss!? - Wasser in der Krise | Ausstellungseröffnung mit
  Vortrag: Ökologie unserer Fließgewässer am Beispiel der Nagold
DTSTART:20260130T180000
DTEND:20260130T190000
UID:2026-04-20-20-09-09-0-@calendar.boell.de
DTSTAMP:20260420T180909
DESCRIPTION:Heinrich Böll Stiftung Baden-Württemberg
END:VEVENT
END:VCALENDAR
