BEGIN:VCALENDAR
VERSION:2.0
PRODID:-//ZContent.net//ZapCalLib 1.0//EN
CALSCALE:GREGORIAN
METHOD:PUBLISH
BEGIN:VEVENT
SUMMARY:Jugend von Rechts?  | Faschistische Jugendbewegungen damals und heu
 te
DTSTART:20251205T180000
DTEND:20251207T173000
UID:2026-04-21-16-42-38-0-@calendar.boell.de
DTSTAMP:20260421T144238
DESCRIPTION:▶ Siehe Veranstaltungsbeschreibung – Berlin – Landesstift
 ung Berlin (Bildungswerk)
END:VEVENT
END:VCALENDAR
