BEGIN:VCALENDAR
VERSION:2.0
PRODID:-//ZContent.net//ZapCalLib 1.0//EN
CALSCALE:GREGORIAN
METHOD:PUBLISH
BEGIN:VEVENT
SUMMARY:Gespaltene Gesellschaft? | Online-Talk mit dem Historiker Ilko-Sasc
 ha Kowalczuk über aktuelle Herausforderungen, Ursachen und die Bedeutung 
 politischer Bildung
DTSTART:20251210T100000
DTEND:20251210T120000
UID:2026-04-21-04-05-39-0-@calendar.boell.de
DTSTAMP:20260421T020539
DESCRIPTION:▶ Siehe Veranstaltungsbeschreibung – Stiftung Leben & Umwel
 t / Heinrich-Böll-Stiftung Niedersachsen
END:VEVENT
END:VCALENDAR
