BEGIN:VCALENDAR
VERSION:2.0
PRODID:-//ZContent.net//ZapCalLib 1.0//EN
CALSCALE:GREGORIAN
METHOD:PUBLISH
BEGIN:VEVENT
SUMMARY:Unsere Grüne Woche: Launch des Konzernatlas 2026 | Daten und Fakte
 n über die Agrar- und Lebensmittelindustrie
DTSTART:20260112T180000
DTEND:20260112T210000
UID:2026-04-20-14-23-59-0-@calendar.boell.de
DTSTAMP:20260420T122359
DESCRIPTION:Heinrich-Böll-Stiftung - Bundesstiftung Berlin – Berlin – 
 Heinrich-Böll-Stiftung - Bundesstiftung Berlin
END:VEVENT
END:VCALENDAR
