BEGIN:VCALENDAR
VERSION:2.0
PRODID:-//ZContent.net//ZapCalLib 1.0//EN
CALSCALE:GREGORIAN
METHOD:PUBLISH
BEGIN:VEVENT
SUMMARY:AUSGEBUCHT//Der große Umbruch  | Buchvorstellung und Gespräch mit
  Ricarda Lang und Steffen Mau
DTSTART:20260121T190000
DTEND:20260121T210000
UID:2026-04-21-04-05-12-0-@calendar.boell.de
DTSTAMP:20260421T020512
DESCRIPTION:▶ Siehe Veranstaltungsbeschreibung – Dresden – 
END:VEVENT
END:VCALENDAR
