BEGIN:VCALENDAR
VERSION:2.0
PRODID:-//ZContent.net//ZapCalLib 1.0//EN
CALSCALE:GREGORIAN
METHOD:PUBLISH
BEGIN:VEVENT
SUMMARY:Migrationspolitik neu denken: Was Europa von Afrika lernen kann
DTSTART:20260112T180000
DTEND:20260112T193000
UID:2026-04-20-22-06-21-0-@calendar.boell.de
DTSTAMP:20260420T200621
DESCRIPTION:Stuttgart – Heinrich Böll Stiftung Baden-Württemberg
END:VEVENT
END:VCALENDAR
