BEGIN:VCALENDAR
VERSION:2.0
PRODID:-//ZContent.net//ZapCalLib 1.0//EN
CALSCALE:GREGORIAN
METHOD:PUBLISH
BEGIN:VEVENT
SUMMARY:Braucht der digitale Omnibus mehr Haltestellen? | Europäische Digi
 talpolitik zwischen Deregulierung und Entbürokratisierung
DTSTART:20251211T120000
DTEND:20251211T130000
UID:2026-04-20-14-23-50-0-@calendar.boell.de
DTSTAMP:20260420T122350
DESCRIPTION:▶ Online-Veranstaltung – Heinrich-Böll-Stiftung - Bundesst
 iftung Berlin
END:VEVENT
END:VCALENDAR
