BEGIN:VCALENDAR
VERSION:2.0
PRODID:-//ZContent.net//ZapCalLib 1.0//EN
CALSCALE:GREGORIAN
METHOD:PUBLISH
BEGIN:VEVENT
SUMMARY:Böll.Global | Aufbruch der Generation Z: Jugendproteste in Afrika,
  Lateinamerika und Südasien
DTSTART:20251209T150000
DTEND:20251209T163000
UID:2026-04-20-22-06-18-0-@calendar.boell.de
DTSTAMP:20260420T200618
DESCRIPTION:▶ Online-Veranstaltung – Heinrich-Böll-Stiftung - Bundesst
 iftung Berlin
END:VEVENT
END:VCALENDAR
