BEGIN:VCALENDAR
VERSION:2.0
PRODID:-//ZContent.net//ZapCalLib 1.0//EN
CALSCALE:GREGORIAN
METHOD:PUBLISH
BEGIN:VEVENT
SUMMARY:Das Leben der Annemarie Böll. Eine Würdigung  | Mit der Autorin T
 anja Dückers und René Böll
DTSTART:20260121T193000
DTEND:20260121T210000
UID:2026-04-20-14-23-53-0-@calendar.boell.de
DTSTAMP:20260420T122353
DESCRIPTION:▶ Siehe Veranstaltungsbeschreibung – Hamburg – Landesstif
 tung Hamburg
END:VEVENT
END:VCALENDAR
