BEGIN:VCALENDAR
VERSION:2.0
PRODID:-//ZContent.net//ZapCalLib 1.0//EN
CALSCALE:GREGORIAN
METHOD:PUBLISH
BEGIN:VEVENT
SUMMARY:Arbeiten mit der Maßnahmendokumentaion am 03.02.2025 | Siehe https
 ://lernen.boell.de/goto.php/crs/1700
DTSTART:20260203T090000
DTEND:20260203T170000
UID:2026-04-20-14-24-01-0-@calendar.boell.de
DTSTAMP:20260420T122401
DESCRIPTION:▶ Siehe Veranstaltungsbeschreibung – 
END:VEVENT
END:VCALENDAR
