BEGIN:VCALENDAR
VERSION:2.0
PRODID:-//ZContent.net//ZapCalLib 1.0//EN
CALSCALE:GREGORIAN
METHOD:PUBLISH
BEGIN:VEVENT
SUMMARY:Good Night White Pride! | Antifaschistisches Konzert
DTSTART:20251206T200000
DTEND:20251206T234500
UID:2026-04-21-15-23-18-0-@calendar.boell.de
DTSTAMP:20260421T132318
DESCRIPTION:Rosenheim – Petra-Kelly-Stiftung
END:VEVENT
END:VCALENDAR
