BEGIN:VCALENDAR
VERSION:2.0
PRODID:-//ZContent.net//ZapCalLib 1.0//EN
CALSCALE:GREGORIAN
METHOD:PUBLISH
BEGIN:VEVENT
SUMMARY:Die neue Republik. Was stärkt unser demokratisches Gemeinwesen? | 
 Frühjahrstagung der Grünen Akademie
DTSTART:20260220T130000
DTEND:20260220T200000
UID:2026-04-20-18-12-58-0-@calendar.boell.de
DTSTAMP:20260420T161258
DESCRIPTION:Heinrich-Böll-Stiftung - Bundesstiftung Berlin – Berlin – 
 Heinrich-Böll-Stiftung - Bundesstiftung Berlin
END:VEVENT
END:VCALENDAR
