BEGIN:VCALENDAR
VERSION:2.0
PRODID:-//ZContent.net//ZapCalLib 1.0//EN
CALSCALE:GREGORIAN
METHOD:PUBLISH
BEGIN:VEVENT
SUMMARY:Böll-SH Konvent 2026 | Under pressure – Demokratiebedrohung. Loy
 alität als Haltung in unsicheren Zeiten
DTSTART:20260123T120000
DTEND:20260123T183000
UID:2026-04-25-04-09-36-0-@calendar.boell.de
DTSTAMP:20260425T020936
DESCRIPTION:▶ Siehe Veranstaltungsbeschreibung – Landesstiftung Schlesw
 ig-Holstein
END:VEVENT
END:VCALENDAR
