BEGIN:VCALENDAR
VERSION:2.0
PRODID:-//ZContent.net//ZapCalLib 1.0//EN
CALSCALE:GREGORIAN
METHOD:PUBLISH
BEGIN:VEVENT
SUMMARY:Feministische Werkstatt: Gemeinsam abtreiben  | Selbstbestimmte Sch
 wangerschaftsabbrüche solidarisch begleiten
DTSTART:20251205T180000
DTEND:20251205T210000
UID:2026-04-21-01-05-17-0-@calendar.boell.de
DTSTAMP:20260420T230517
DESCRIPTION:▶ Siehe Veranstaltungsbeschreibung – Hamburg – Landesstif
 tung Hamburg
END:VEVENT
END:VCALENDAR
