BEGIN:VCALENDAR
VERSION:2.0
PRODID:-//ZContent.net//ZapCalLib 1.0//EN
CALSCALE:GREGORIAN
METHOD:PUBLISH
BEGIN:VEVENT
SUMMARY:Test VA
DTSTART:20261227T143027
DTEND:20261228T152827
UID:2026-04-21-15-50-13-0-@calendar.boell.de
DTSTAMP:20260421T135013
DESCRIPTION:▶ Siehe Veranstaltungsbeschreibung – 
END:VEVENT
END:VCALENDAR
