BEGIN:VCALENDAR
VERSION:2.0
PRODID:-//ZContent.net//ZapCalLib 1.0//EN
CALSCALE:GREGORIAN
METHOD:PUBLISH
BEGIN:VEVENT
SUMMARY:Wie wir die Ukraine (nicht) sehen | Perspektiven auf ein europäisc
 hes Land im Schatten verzerrter Narrative
DTSTART:20251121T183000
DTEND:20251121T200000
UID:2026-04-20-20-08-49-0-@calendar.boell.de
DTSTAMP:20260420T180849
DESCRIPTION:▶ Siehe Veranstaltungsbeschreibung – Landesstiftung Sachsen
  (Weiterdenken)
END:VEVENT
END:VCALENDAR
