BEGIN:VCALENDAR
VERSION:2.0
PRODID:-//ZContent.net//ZapCalLib 1.0//EN
CALSCALE:GREGORIAN
METHOD:PUBLISH
BEGIN:VEVENT
SUMMARY:Die Krimtataren | Weil wir die Freiheit in Frieden wollen | Buchvor
 stellung, Film und Diskussion
DTSTART:20251127T190000
DTEND:20251127T220000
UID:2026-04-21-01-05-16-0-@calendar.boell.de
DTSTAMP:20260420T230516
DESCRIPTION:Karlsruhe – Heinrich Böll Stiftung Baden-Württemberg
END:VEVENT
END:VCALENDAR
