BEGIN:VCALENDAR
VERSION:2.0
PRODID:-//ZContent.net//ZapCalLib 1.0//EN
CALSCALE:GREGORIAN
METHOD:PUBLISH
BEGIN:VEVENT
SUMMARY:Museum of Stolen Art. Identität – Unterdrückung – Widerstand:
   | Wie die Ukraine ihre Kultur gegen Russlands Auslöschungsversuch verte
 idigt
DTSTART:20251204T193000
DTEND:20251204T210000
UID:2026-04-21-01-05-19-0-@calendar.boell.de
DTSTAMP:20260420T230519
DESCRIPTION:Düsseldorf – Heinrich-Böll-Stiftung - Bundesstiftung Berlin
END:VEVENT
END:VCALENDAR
