BEGIN:VCALENDAR
VERSION:2.0
PRODID:-//ZContent.net//ZapCalLib 1.0//EN
CALSCALE:GREGORIAN
METHOD:PUBLISH
BEGIN:VEVENT
SUMMARY:Buchvorstellung: Ricarda Lang und Steffen Mau - Der große Umbruch 
 (AUSGEBUCHT, nur noch per Livestream)
DTSTART:20260127T193000
DTEND:20260127T210000
UID:2026-04-25-02-35-09-0-@calendar.boell.de
DTSTAMP:20260425T003509
DESCRIPTION:Hamburg – Landesstiftung Hamburg
END:VEVENT
END:VCALENDAR
