BEGIN:VCALENDAR
VERSION:2.0
PRODID:-//ZContent.net//ZapCalLib 1.0//EN
CALSCALE:GREGORIAN
METHOD:PUBLISH
BEGIN:VEVENT
SUMMARY:Nachrichtendienste in der Zeitenwende mit Konstantin von Notz (MdB)
DTSTART:20251210T190000
DTEND:20251210T210000
UID:2026-04-21-01-05-44-0-@calendar.boell.de
DTSTAMP:20260420T230544
DESCRIPTION:▶ Siehe Veranstaltungsbeschreibung – Kiel – Landesstiftun
 g Schleswig-Holstein
END:VEVENT
END:VCALENDAR
