BEGIN:VCALENDAR
VERSION:2.0
PRODID:-//ZContent.net//ZapCalLib 1.0//EN
CALSCALE:GREGORIAN
METHOD:PUBLISH
BEGIN:VEVENT
SUMMARY:Warum das Abkommen von Paris wichtig ist | Teil 1 | 10 Jahre Parise
 r Klimaabkommen – und jetzt? Eine Suche in vier Teilen
DTSTART:20251211T181500
DTEND:20251211T210000
UID:2026-04-20-20-08-59-0-@calendar.boell.de
DTSTAMP:20260420T180859
DESCRIPTION:Freiburg – Heinrich Böll Stiftung Baden-Württemberg
END:VEVENT
END:VCALENDAR
