BEGIN:VCALENDAR
VERSION:2.0
PRODID:-//ZContent.net//ZapCalLib 1.0//EN
CALSCALE:GREGORIAN
METHOD:PUBLISH
BEGIN:VEVENT
SUMMARY:GreenCampus Trainer*innen-Neujahrstreffen
DTSTART:20260105T150000
DTEND:20260105T170000
UID:2026-04-20-18-12-57-0-@calendar.boell.de
DTSTAMP:20260420T161257
DESCRIPTION:▶ Siehe Veranstaltungsbeschreibung – 
END:VEVENT
END:VCALENDAR
