BEGIN:VCALENDAR
VERSION:2.0
PRODID:-//ZContent.net//ZapCalLib 1.0//EN
CALSCALE:GREGORIAN
METHOD:PUBLISH
BEGIN:VEVENT
SUMMARY:Abteilungsweiterbildung O&W: "Grundlagen des Promptens" 2. Termin 0
 3.12.
DTSTART:20251203T090000
DTEND:20251203T130000
UID:2026-04-20-18-12-55-0-@calendar.boell.de
DTSTAMP:20260420T161255
DESCRIPTION:▶ Siehe Veranstaltungsbeschreibung – 
END:VEVENT
END:VCALENDAR
