BEGIN:VCALENDAR
VERSION:2.0
PRODID:-//ZContent.net//ZapCalLib 1.0//EN
CALSCALE:GREGORIAN
METHOD:PUBLISH
BEGIN:VEVENT
SUMMARY: Abteilungsweiterbildung O&W: "Grundlagen des Promptens" 1. Termin 
 21.11.
DTSTART:20251121T090000
DTEND:20251121T133000
UID:2026-04-20-18-12-56-0-@calendar.boell.de
DTSTAMP:20260420T161256
DESCRIPTION:▶ Siehe Veranstaltungsbeschreibung – 
END:VEVENT
END:VCALENDAR
