BEGIN:VCALENDAR
VERSION:2.0
PRODID:-//ZContent.net//ZapCalLib 1.0//EN
CALSCALE:GREGORIAN
METHOD:PUBLISH
BEGIN:VEVENT
SUMMARY:Fahrrad-Bildungsurlaub Lekker Lebensqualität | Nachhaltigkeit, Sta
 dtentwicklung & Verkehrswende in den Niederlanden
DTSTART:20260517T000000
DTEND:20260522T235900
UID:2026-04-23-17-56-00-0-@calendar.boell.de
DTSTAMP:20260423T155600
DESCRIPTION:▶ Siehe Veranstaltungsbeschreibung – Landesstiftung Berlin 
 (Bildungswerk)
END:VEVENT
END:VCALENDAR
