BEGIN:VCALENDAR
VERSION:2.0
PRODID:-//ZContent.net//ZapCalLib 1.0//EN
CALSCALE:GREGORIAN
METHOD:PUBLISH
BEGIN:VEVENT
SUMMARY:Grenzgänge West | Grenzen übertreten, Natur und Geschichte erfahr
 en, die europäische Idee erleben.
DTSTART:20260907T101500
DTEND:20260911T213000
UID:2026-04-24-19-44-40-0-@calendar.boell.de
DTSTAMP:20260424T174440
DESCRIPTION:▶ Siehe Veranstaltungsbeschreibung – Aachen – Landesstift
 ung Nordrhein-Westfalen
END:VEVENT
END:VCALENDAR
