BEGIN:VCALENDAR
VERSION:2.0
PRODID:-//ZContent.net//ZapCalLib 1.0//EN
CALSCALE:GREGORIAN
METHOD:PUBLISH
BEGIN:VEVENT
SUMMARY:Klassismus. Klassengesellschaft und ihre Ideologie | Ein Seminar zu
 m Klassismus Begriff unter intersektionaler Perspektive
DTSTART:20260116T180000
DTEND:20260118T173000
UID:2026-04-21-01-05-15-0-@calendar.boell.de
DTSTAMP:20260420T230515
DESCRIPTION:▶ Siehe Veranstaltungsbeschreibung – Berlin – Landesstift
 ung Berlin (Bildungswerk)
END:VEVENT
END:VCALENDAR
