BEGIN:VCALENDAR
VERSION:2.0
PRODID:-//ZContent.net//ZapCalLib 1.0//EN
CALSCALE:GREGORIAN
METHOD:PUBLISH
BEGIN:VEVENT
SUMMARY:NOTES #17: Afghanische Künstler*innen in Iran
DTSTART:20251106T173000
DTEND:20251106T190000
UID:2026-04-20-20-09-00-0-@calendar.boell.de
DTSTAMP:20260420T180900
DESCRIPTION:▶ Online-Veranstaltung – Heinrich-Böll-Stiftung - Bundesst
 iftung Berlin
END:VEVENT
END:VCALENDAR
