BEGIN:VCALENDAR
VERSION:2.0
PRODID:-//ZContent.net//ZapCalLib 1.0//EN
CALSCALE:GREGORIAN
METHOD:PUBLISH
BEGIN:VEVENT
SUMMARY:AUSGEBUCHT! Klar sagen, was zählt. Botschaften einprägsam formuli
 eren, überzeugend vortragen und souverän gegen Widerstand vertreten (1/2
 ) | Lokal. Vernetzt. Demokratisch. Bildungsreihe zu den Kommunalwahlen in 
 Bayern und Hessen
DTSTART:20251208T150000
DTEND:20251208T183000
UID:2026-04-20-20-09-11-0-@calendar.boell.de
DTSTAMP:20260420T180911
DESCRIPTION:▶ Online-Veranstaltung – Petra-Kelly-Stiftung
END:VEVENT
END:VCALENDAR
