BEGIN:VCALENDAR
VERSION:2.0
PRODID:-//ZContent.net//ZapCalLib 1.0//EN
CALSCALE:GREGORIAN
METHOD:PUBLISH
BEGIN:VEVENT
SUMMARY:Testungstest | getestet
DTSTART:20251128T151035
DTEND:20251128T161035
UID:2026-04-21-14-23-41-0-@calendar.boell.de
DTSTAMP:20260421T122341
DESCRIPTION:▶ Siehe Veranstaltungsbeschreibung – Hamburg – 
END:VEVENT
END:VCALENDAR
