BEGIN:VCALENDAR
VERSION:2.0
PRODID:-//ZContent.net//ZapCalLib 1.0//EN
CALSCALE:GREGORIAN
METHOD:PUBLISH
BEGIN:VEVENT
SUMMARY:Mut zum Gender*Dialog - Empowerment, Privilegien, Potenziale | Mach
 tverhältnisse erkennen, Perspektiven teilen, Wandel gestalten.
DTSTART:20260213T160000
DTEND:20260215T140000
UID:2026-04-21-05-48-42-0-@calendar.boell.de
DTSTAMP:20260421T034842
DESCRIPTION:▶ Siehe Veranstaltungsbeschreibung – Berlin – Landesstift
 ung Berlin (Bildungswerk)
END:VEVENT
END:VCALENDAR
