BEGIN:VCALENDAR
VERSION:2.0
PRODID:-//ZContent.net//ZapCalLib 1.0//EN
CALSCALE:GREGORIAN
METHOD:PUBLISH
BEGIN:VEVENT
SUMMARY:JIRA Einführung und Anwendung des hbs-Templates | Siehe https://le
 rnen.boell.de/goto.php/crs/1613
DTSTART:20251211T100000
DTEND:20251211T111500
UID:2026-04-21-05-48-45-0-@calendar.boell.de
DTSTAMP:20260421T034845
DESCRIPTION:▶ Siehe Veranstaltungsbeschreibung – 
END:VEVENT
END:VCALENDAR
