BEGIN:VCALENDAR
VERSION:2.0
PRODID:-//ZContent.net//ZapCalLib 1.0//EN
CALSCALE:GREGORIAN
METHOD:PUBLISH
BEGIN:VEVENT
SUMMARY:Demokratie-Fitness Camp 02.2026 | Eine Qualifizierungsmaßnahme zur
 /zum Demokratie-Fitnesstrainer*in in Kooperation mit der LpB NRW
DTSTART:20260218T090000
DTEND:20260220T170000
UID:2026-04-21-05-48-51-0-@calendar.boell.de
DTSTAMP:20260421T034851
DESCRIPTION:▶ Siehe Veranstaltungsbeschreibung – Landesstiftung Nordrhe
 in-Westfalen
END:VEVENT
END:VCALENDAR
