BEGIN:VCALENDAR
VERSION:2.0
PRODID:-//ZContent.net//ZapCalLib 1.0//EN
CALSCALE:GREGORIAN
METHOD:PUBLISH
BEGIN:VEVENT
SUMMARY:Mutig und engagiert | Ein literarisch-historischer Abend zum engagi
 erten Widerstand gegen den Nationalsozialismus
DTSTART:20251128T180000
DTEND:20251128T200000
UID:2026-04-21-18-31-02-0-@calendar.boell.de
DTSTAMP:20260421T163102
DESCRIPTION:▶ Siehe Veranstaltungsbeschreibung – Windeck – Landesstif
 tung Nordrhein-Westfalen
END:VEVENT
END:VCALENDAR
