BEGIN:VCALENDAR
VERSION:2.0
PRODID:-//ZContent.net//ZapCalLib 1.0//EN
CALSCALE:GREGORIAN
METHOD:PUBLISH
BEGIN:VEVENT
SUMMARY:USA – land of hope and dreams? | 51. Grüner Salon Bielefeld
DTSTART:20251116T113000
DTEND:20251116T130000
UID:2026-04-22-10-08-55-0-@calendar.boell.de
DTSTAMP:20260422T080855
DESCRIPTION:▶ Siehe Veranstaltungsbeschreibung – Bielefeld – Landesst
 iftung Nordrhein-Westfalen
END:VEVENT
END:VCALENDAR
