BEGIN:VCALENDAR
VERSION:2.0
PRODID:-//ZContent.net//ZapCalLib 1.0//EN
CALSCALE:GREGORIAN
METHOD:PUBLISH
BEGIN:VEVENT
SUMMARY:Reden schreiben, die andere halten
DTSTART:20260223T100000
DTEND:20260224T170000
UID:2026-04-21-05-48-43-0-@calendar.boell.de
DTSTAMP:20260421T034843
DESCRIPTION:Heinrich-Böll-Stiftung - Bundesstiftung Berlin – Berlin – 
 GreenCampus
END:VEVENT
END:VCALENDAR
