BEGIN:VCALENDAR
VERSION:2.0
PRODID:-//ZContent.net//ZapCalLib 1.0//EN
CALSCALE:GREGORIAN
METHOD:PUBLISH
BEGIN:VEVENT
SUMMARY:Progressiv und populistisch - wie wir Social Media zurückgewinnen 
 können
DTSTART:20251209T180000
DTEND:20251209T213000
UID:2026-04-21-13-11-10-0-@calendar.boell.de
DTSTAMP:20260421T111110
DESCRIPTION:▶ Online-Veranstaltung – Petra-Kelly-Stiftung
END:VEVENT
END:VCALENDAR
