BEGIN:VCALENDAR
VERSION:2.0
PRODID:-//ZContent.net//ZapCalLib 1.0//EN
CALSCALE:GREGORIAN
METHOD:PUBLISH
BEGIN:VEVENT
SUMMARY:Frauenrechte und Resilienz in Afghanistan  | Vorträge, Diskussion 
 und Filmvorführung des Berliner Forums für Afghanistan
DTSTART:20251124T153000
DTEND:20251124T203000
UID:2026-04-23-03-27-14-0-@calendar.boell.de
DTSTAMP:20260423T012714
DESCRIPTION:▶ Heinrich-Böll-Stiftung\, Bundesstiftung Berlin sowie Onlin
 e – Berlin – Heinrich-Böll-Stiftung - Bundesstiftung Berlin
END:VEVENT
END:VCALENDAR
