BEGIN:VCALENDAR
VERSION:2.0
PRODID:-//ZContent.net//ZapCalLib 1.0//EN
CALSCALE:GREGORIAN
METHOD:PUBLISH
BEGIN:VEVENT
SUMMARY:Bildungsreise nach Moldova
DTSTART:20261004T090000
DTEND:20261014T180000
UID:2026-04-23-08-38-09-0-@calendar.boell.de
DTSTAMP:20260423T063809
DESCRIPTION:▶ Siehe Veranstaltungsbeschreibung – Landesstiftung Hamburg
END:VEVENT
END:VCALENDAR
