BEGIN:VCALENDAR
VERSION:2.0
PRODID:-//ZContent.net//ZapCalLib 1.0//EN
CALSCALE:GREGORIAN
METHOD:PUBLISH
BEGIN:VEVENT
SUMMARY:Selbstorganisiert oder Desinteressiert  | Wie gelingt Mitbestimmung
  von jungen Menschen in der postmigrantischen Gesellschaft? 
DTSTART:20251204T150000
DTEND:20251204T170000
UID:2026-04-24-00-35-28-0-@calendar.boell.de
DTSTAMP:20260423T223528
DESCRIPTION:▶ Online-Veranstaltung – Landesstiftung Schleswig-Holstein
END:VEVENT
END:VCALENDAR
